BEGIN:VCALENDAR
METHOD:PUBLISH
PRODID:-//Weblication CMS
VERSION:2.0
BEGIN:VEVENT
SUMMARY:Tag der Hochstamm-Obstbäume
DTSTART:20190427T090000
DTEND:20190427T120000
DESCRIPTION:Verkauf von Nistkästen durch den NVVT und Schnitzweggli im «Dorfladen»
LOCATION:
UID:https://titterten.ch/de/aktuelles/veranstaltungen/termine/1602927757.php
URL:https://titterten.ch/de/aktuelles/veranstaltungen/termine/1602927757.php
END:VEVENT
END:VCALENDAR