BEGIN:VCALENDAR
METHOD:PUBLISH
PRODID:-//Weblication CMS
VERSION:2.0
BEGIN:VEVENT
SUMMARY:FW TLF Maschinisten
DTSTART:20190122T200000
DTEND:20190122T220000
DESCRIPTION:
LOCATION:
UID:https://titterten.ch/de/aktuelles/veranstaltungen/termine/2901829101.php
URL:https://titterten.ch/de/aktuelles/veranstaltungen/termine/2901829101.php
END:VEVENT
END:VCALENDAR