BEGIN:VCALENDAR
METHOD:PUBLISH
PRODID:-//Weblication CMS
VERSION:2.0
BEGIN:VEVENT
SUMMARY:Maibaumschmücken
DTSTART:20190430T170000
DTEND:20190430T000000
DESCRIPTION:
LOCATION:
UID:https://titterten.ch/de/aktuelles/veranstaltungen/termine/3518951244.php
URL:https://titterten.ch/de/aktuelles/veranstaltungen/termine/3518951244.php
END:VEVENT
END:VCALENDAR