BEGIN:VCALENDAR
METHOD:PUBLISH
PRODID:-//Weblication CMS
VERSION:2.0
BEGIN:VEVENT
SUMMARY:81. Jahresversammlung Natur- und Vogelschutzverein Titterten
DTSTART:20190222T200000
DTEND:20190222T220000
DESCRIPTION:
LOCATION:
UID:https://titterten.ch/de/aktuelles/veranstaltungen/termine/7810554312.php
URL:https://titterten.ch/de/aktuelles/veranstaltungen/termine/7810554312.php
END:VEVENT
END:VCALENDAR